BEGIN:VCALENDAR
VERSION:2.0
PRODID:-//Landsmannschaft Rheno-Teutonia Bingen am Rhein - ECPv6.15.20//NONSGML v1.0//EN
CALSCALE:GREGORIAN
METHOD:PUBLISH
X-WR-CALNAME:Landsmannschaft Rheno-Teutonia Bingen am Rhein
X-ORIGINAL-URL:https://rheno-teutonia.de
X-WR-CALDESC:Veranstaltungen für Landsmannschaft Rheno-Teutonia Bingen am Rhein
REFRESH-INTERVAL;VALUE=DURATION:PT1H
X-Robots-Tag:noindex
X-PUBLISHED-TTL:PT1H
BEGIN:VTIMEZONE
TZID:Europe/Berlin
BEGIN:DAYLIGHT
TZOFFSETFROM:+0100
TZOFFSETTO:+0200
TZNAME:CEST
DTSTART:20200329T010000
END:DAYLIGHT
BEGIN:STANDARD
TZOFFSETFROM:+0200
TZOFFSETTO:+0100
TZNAME:CET
DTSTART:20201025T010000
END:STANDARD
BEGIN:DAYLIGHT
TZOFFSETFROM:+0100
TZOFFSETTO:+0200
TZNAME:CEST
DTSTART:20210328T010000
END:DAYLIGHT
BEGIN:STANDARD
TZOFFSETFROM:+0200
TZOFFSETTO:+0100
TZNAME:CET
DTSTART:20211031T010000
END:STANDARD
BEGIN:DAYLIGHT
TZOFFSETFROM:+0100
TZOFFSETTO:+0200
TZNAME:CEST
DTSTART:20220327T010000
END:DAYLIGHT
BEGIN:STANDARD
TZOFFSETFROM:+0200
TZOFFSETTO:+0100
TZNAME:CET
DTSTART:20221030T010000
END:STANDARD
BEGIN:DAYLIGHT
TZOFFSETFROM:+0100
TZOFFSETTO:+0200
TZNAME:CEST
DTSTART:20230326T010000
END:DAYLIGHT
BEGIN:STANDARD
TZOFFSETFROM:+0200
TZOFFSETTO:+0100
TZNAME:CET
DTSTART:20231029T010000
END:STANDARD
END:VTIMEZONE
BEGIN:VEVENT
DTSTART;VALUE=DATE:20220603
DTEND;VALUE=DATE:20220607
DTSTAMP:20260423T124838
CREATED:20220410T173259Z
LAST-MODIFIED:20220410T173259Z
UID:288-1654214400-1654559999@rheno-teutonia.de
SUMMARY:133. Stiftungsfest
DESCRIPTION:(Programm gemäß gesonderter Einladung)
URL:https://rheno-teutonia.de/event/133-stiftungsfest/
END:VEVENT
BEGIN:VEVENT
DTSTART;VALUE=DATE:20220129
DTEND;VALUE=DATE:20220130
DTSTAMP:20260423T124838
CREATED:20211214T221838Z
LAST-MODIFIED:20211214T223807Z
UID:139-1643414400-1643500799@rheno-teutonia.de
SUMMARY:Offizielles Vorlesungsende der Technischen Hochschule Bingen
DESCRIPTION:
URL:https://rheno-teutonia.de/event/offizielles-vorlesungsende-der-technischen-hochschule-bingen/
CATEGORIES:Semesterprogramm für das Wintersemester 2021/2022
END:VEVENT
BEGIN:VEVENT
DTSTART;TZID=Europe/Berlin:20220115T200000
DTEND;TZID=Europe/Berlin:20220115T220000
DTSTAMP:20260423T124838
CREATED:20211214T221809Z
LAST-MODIFIED:20211214T223813Z
UID:137-1642276800-1642284000@rheno-teutonia.de
SUMMARY:Hochoffizielle Semesterabschlusskneipe
DESCRIPTION:
URL:https://rheno-teutonia.de/event/hochoffizielle-semesterabschlusskneipe/
LOCATION:Teutonenhaus\, Frankenstr. 6\, Bingen am Rhein\, Rheinland-Pfalz\, 55411\, Deutschland
CATEGORIES:Semesterprogramm für das Wintersemester 2021/2022
END:VEVENT
BEGIN:VEVENT
DTSTART;TZID=Europe/Berlin:20220114T200000
DTEND;TZID=Europe/Berlin:20220114T220000
DTSTAMP:20260423T124838
CREATED:20211214T221734Z
LAST-MODIFIED:20211214T223818Z
UID:135-1642190400-1642197600@rheno-teutonia.de
SUMMARY:Burschungskneipe
DESCRIPTION:
URL:https://rheno-teutonia.de/event/burschungskneipe/
LOCATION:Teutonenhaus\, Frankenstr. 6\, Bingen am Rhein\, Rheinland-Pfalz\, 55411\, Deutschland
CATEGORIES:Semesterprogramm für das Wintersemester 2021/2022
END:VEVENT
BEGIN:VEVENT
DTSTART;TZID=Europe/Berlin:20220103T190000
DTEND;TZID=Europe/Berlin:20220103T210000
DTSTAMP:20260423T124838
CREATED:20211214T221659Z
LAST-MODIFIED:20211214T223823Z
UID:133-1641236400-1641243600@rheno-teutonia.de
SUMMARY:Jahres-Antrunk
DESCRIPTION:
URL:https://rheno-teutonia.de/event/jahres-antrunk/
LOCATION:Teutonenhaus\, Frankenstr. 6\, Bingen am Rhein\, Rheinland-Pfalz\, 55411\, Deutschland
CATEGORIES:Semesterprogramm für das Wintersemester 2021/2022
END:VEVENT
BEGIN:VEVENT
DTSTART;TZID=Europe/Berlin:20211211T200000
DTEND;TZID=Europe/Berlin:20211211T220000
DTSTAMP:20260423T124838
CREATED:20211214T221615Z
LAST-MODIFIED:20211214T223828Z
UID:131-1639252800-1639260000@rheno-teutonia.de
SUMMARY:Nikolaus-Kneipe
DESCRIPTION:
URL:https://rheno-teutonia.de/event/nikolaus-kneipe/
LOCATION:Teutonenhaus\, Frankenstr. 6\, Bingen am Rhein\, Rheinland-Pfalz\, 55411\, Deutschland
CATEGORIES:Semesterprogramm für das Wintersemester 2021/2022
END:VEVENT
BEGIN:VEVENT
DTSTART;TZID=Europe/Berlin:20211210T200000
DTEND;TZID=Europe/Berlin:20211210T220000
DTSTAMP:20260423T124838
CREATED:20211214T221517Z
LAST-MODIFIED:20211214T223833Z
UID:129-1639166400-1639173600@rheno-teutonia.de
SUMMARY:Brandungskneipe
DESCRIPTION:
URL:https://rheno-teutonia.de/event/brandungskneipe/
LOCATION:Teutonenhaus\, Frankenstr. 6\, Bingen am Rhein\, Rheinland-Pfalz\, 55411\, Deutschland
CATEGORIES:Semesterprogramm für das Wintersemester 2021/2022
END:VEVENT
BEGIN:VEVENT
DTSTART;TZID=Europe/Berlin:20211127T200000
DTEND;TZID=Europe/Berlin:20211127T220000
DTSTAMP:20260423T124838
CREATED:20211214T221432Z
LAST-MODIFIED:20211214T223838Z
UID:127-1638043200-1638050400@rheno-teutonia.de
SUMMARY:Sängerstammtisch
DESCRIPTION:
URL:https://rheno-teutonia.de/event/saengerstammtisch/
LOCATION:Teutonenhaus\, Frankenstr. 6\, Bingen am Rhein\, Rheinland-Pfalz\, 55411\, Deutschland
CATEGORIES:Semesterprogramm für das Wintersemester 2021/2022
END:VEVENT
BEGIN:VEVENT
DTSTART;TZID=Europe/Berlin:20211119T190000
DTEND;TZID=Europe/Berlin:20211119T210000
DTSTAMP:20260423T124838
CREATED:20211214T221351Z
LAST-MODIFIED:20211214T223846Z
UID:125-1637348400-1637355600@rheno-teutonia.de
SUMMARY:Seminar "Wissenschaftliches Schreiben mit LaTeX"
DESCRIPTION:
URL:https://rheno-teutonia.de/event/seminar-wissenschaftliches-schreiben-mit-latex/
LOCATION:Teutonenhaus\, Frankenstr. 6\, Bingen am Rhein\, Rheinland-Pfalz\, 55411\, Deutschland
CATEGORIES:Semesterprogramm für das Wintersemester 2021/2022
END:VEVENT
BEGIN:VEVENT
DTSTART;TZID=Europe/Berlin:20211112T200000
DTEND;TZID=Europe/Berlin:20211112T220000
DTSTAMP:20260423T124838
CREATED:20211214T221255Z
LAST-MODIFIED:20211214T223851Z
UID:123-1636747200-1636754400@rheno-teutonia.de
SUMMARY:Excel Seminar
DESCRIPTION:
URL:https://rheno-teutonia.de/event/excel-seminar-2/
LOCATION:Teutonenhaus\, Frankenstr. 6\, Bingen am Rhein\, Rheinland-Pfalz\, 55411\, Deutschland
CATEGORIES:Semesterprogramm für das Wintersemester 2021/2022
END:VEVENT
BEGIN:VEVENT
DTSTART;TZID=Europe/Berlin:20211105T200000
DTEND;TZID=Europe/Berlin:20211105T220000
DTSTAMP:20260423T124838
CREATED:20211214T221131Z
LAST-MODIFIED:20211214T223858Z
UID:121-1636142400-1636149600@rheno-teutonia.de
SUMMARY:Excel Seminar
DESCRIPTION:
URL:https://rheno-teutonia.de/event/excel-seminar/
LOCATION:Teutonenhaus\, Frankenstr. 6\, Bingen am Rhein\, Rheinland-Pfalz\, 55411\, Deutschland
CATEGORIES:Semesterprogramm für das Wintersemester 2021/2022
END:VEVENT
BEGIN:VEVENT
DTSTART;TZID=Europe/Berlin:20211030T200000
DTEND;TZID=Europe/Berlin:20211030T220000
DTSTAMP:20260423T124838
CREATED:20211214T221020Z
LAST-MODIFIED:20211214T223903Z
UID:119-1635624000-1635631200@rheno-teutonia.de
SUMMARY:Hochoffizielle Semesterantrittskneipe
DESCRIPTION:Zuvor HBV-Sitzung (ab 11 Uhr) und AHC (ab 14 Uhr).
URL:https://rheno-teutonia.de/event/hochoffizielle-semesterantrittskneipe/
LOCATION:Teutonenhaus\, Frankenstr. 6\, Bingen am Rhein\, Rheinland-Pfalz\, 55411\, Deutschland
CATEGORIES:Semesterprogramm für das Wintersemester 2021/2022
END:VEVENT
BEGIN:VEVENT
DTSTART;TZID=Europe/Berlin:20211022T200000
DTEND;TZID=Europe/Berlin:20211022T220000
DTSTAMP:20260423T124838
CREATED:20211214T220856Z
LAST-MODIFIED:20211214T223908Z
UID:117-1634932800-1634940000@rheno-teutonia.de
SUMMARY:Seminar zum Berufseinstieg
DESCRIPTION:
URL:https://rheno-teutonia.de/event/seminar-zum-berufseinstieg/
LOCATION:Teutonenhaus\, Frankenstr. 6\, Bingen am Rhein\, Rheinland-Pfalz\, 55411\, Deutschland
CATEGORIES:Semesterprogramm für das Wintersemester 2021/2022
END:VEVENT
BEGIN:VEVENT
DTSTART;TZID=Europe/Berlin:20211012T190000
DTEND;TZID=Europe/Berlin:20211012T220000
DTSTAMP:20260423T124838
CREATED:20211214T220717Z
LAST-MODIFIED:20211214T223914Z
UID:115-1634065200-1634076000@rheno-teutonia.de
SUMMARY:Cocktailparty
DESCRIPTION:
URL:https://rheno-teutonia.de/event/cocktailparty/
LOCATION:Teutonenhaus\, Frankenstr. 6\, Bingen am Rhein\, Rheinland-Pfalz\, 55411\, Deutschland
CATEGORIES:Semesterprogramm für das Wintersemester 2021/2022
END:VEVENT
BEGIN:VEVENT
DTSTART;TZID=Europe/Berlin:20211007T200000
DTEND;TZID=Europe/Berlin:20211007T230000
DTSTAMP:20260423T124838
CREATED:20211214T205321Z
LAST-MODIFIED:20211214T223919Z
UID:111-1633636800-1633647600@rheno-teutonia.de
SUMMARY:Semesterantrunk
DESCRIPTION:
URL:https://rheno-teutonia.de/event/semesterantrunk/
LOCATION:Teutonenhaus\, Frankenstr. 6\, Bingen am Rhein\, Rheinland-Pfalz\, 55411\, Deutschland
CATEGORIES:Semesterprogramm für das Wintersemester 2021/2022
END:VEVENT
BEGIN:VEVENT
DTSTART;VALUE=DATE:20211005
DTEND;VALUE=DATE:20211007
DTSTAMP:20260423T124838
CREATED:20211214T205339Z
LAST-MODIFIED:20211214T223924Z
UID:103-1633399200-1633485599@rheno-teutonia.de
SUMMARY:Offizieller Vorlesungsbeginn an der Technischen Hochschule Bingen
DESCRIPTION:
URL:https://rheno-teutonia.de/event/offizieller-vorlesungsbeginn-an-der-technischen-hochschule-bingen/
CATEGORIES:Semesterprogramm für das Wintersemester 2021/2022
END:VEVENT
END:VCALENDAR